BEGIN:VCALENDAR
VERSION:2.0
PRODID:-//Pfadis Wiener Neudorf - ECPv6.15.20//NONSGML v1.0//EN
CALSCALE:GREGORIAN
METHOD:PUBLISH
X-WR-CALNAME:Pfadis Wiener Neudorf
X-ORIGINAL-URL:https://pfadis.wrneudorf.at
X-WR-CALDESC:Veranstaltungen für Pfadis Wiener Neudorf
REFRESH-INTERVAL;VALUE=DURATION:PT1H
X-Robots-Tag:noindex
X-PUBLISHED-TTL:PT1H
BEGIN:VTIMEZONE
TZID:Europe/Vienna
BEGIN:DAYLIGHT
TZOFFSETFROM:+0100
TZOFFSETTO:+0200
TZNAME:CEST
DTSTART:20250330T010000
END:DAYLIGHT
BEGIN:STANDARD
TZOFFSETFROM:+0200
TZOFFSETTO:+0100
TZNAME:CET
DTSTART:20251026T010000
END:STANDARD
BEGIN:DAYLIGHT
TZOFFSETFROM:+0100
TZOFFSETTO:+0200
TZNAME:CEST
DTSTART:20260329T010000
END:DAYLIGHT
BEGIN:STANDARD
TZOFFSETFROM:+0200
TZOFFSETTO:+0100
TZNAME:CET
DTSTART:20261025T010000
END:STANDARD
BEGIN:DAYLIGHT
TZOFFSETFROM:+0100
TZOFFSETTO:+0200
TZNAME:CEST
DTSTART:20270328T010000
END:DAYLIGHT
BEGIN:STANDARD
TZOFFSETFROM:+0200
TZOFFSETTO:+0100
TZNAME:CET
DTSTART:20271031T010000
END:STANDARD
END:VTIMEZONE
BEGIN:VEVENT
DTSTART;VALUE=DATE:20260328
DTEND;VALUE=DATE:20260407
DTSTAMP:20260422T104115
CREATED:20250926T092114Z
LAST-MODIFIED:20250926T092114Z
UID:11758-1774656000-1775519999@pfadis.wrneudorf.at
SUMMARY:Osterferien 2026
DESCRIPTION:
URL:https://pfadis.wrneudorf.at/event/osterferien-2026/
LOCATION:Niederösterreich
CATEGORIES:Schulfrei
END:VEVENT
BEGIN:VEVENT
DTSTART;VALUE=DATE:20260411
DTEND;VALUE=DATE:20260413
DTSTAMP:20260422T104115
CREATED:20251023T073346Z
LAST-MODIFIED:20251023T073346Z
UID:11890-1775865600-1776038399@pfadis.wrneudorf.at
SUMMARY:Seminar der Erfahrungsphase der Jugendleiter_innenausbildung (ZO\, KO\, PA\, GR)
DESCRIPTION:
URL:https://pfadis.wrneudorf.at/event/seminar-der-erfahrungsphase-der-jugendleiter_innenausbildung-zo-ko-pa-gr/
LOCATION:Pfadiheim Wiener Neudorf\, Hauptstraße 64\, Wiener Neudorf\, Niederösterreich\, 2351\, Austria
CATEGORIES:Seminar
ORGANIZER;CN="Pfadis Wiener Neudorf":MAILTO:pfadis@wrneudorf.at
END:VEVENT
BEGIN:VEVENT
DTSTART;TZID=Europe/Vienna:20260414T183000
DTEND;TZID=Europe/Vienna:20260414T193000
DTSTAMP:20260422T104115
CREATED:20260408T092417Z
LAST-MODIFIED:20260408T092417Z
UID:12369-1776191400-1776195000@pfadis.wrneudorf.at
SUMMARY:GuSp Elternabend Frühling 2026
DESCRIPTION:
URL:https://pfadis.wrneudorf.at/event/gusp-elternabend-fruehling-2026/
LOCATION:Pfadiheim Wiener Neudorf\, Hauptstraße 64\, Wiener Neudorf\, Niederösterreich\, 2351\, Austria
CATEGORIES:Elternabend
ORGANIZER;CN="GuSp-Team":MAILTO:gusp@wrneudorf.at
END:VEVENT
BEGIN:VEVENT
DTSTART;TZID=Europe/Vienna:20260417T160000
DTEND;TZID=Europe/Vienna:20260418T100000
DTSTAMP:20260422T104115
CREATED:20250926T091624Z
LAST-MODIFIED:20251023T073453Z
UID:11756-1776441600-1776506400@pfadis.wrneudorf.at
SUMMARY:WiWö XL-Heimstunde 2026
DESCRIPTION:
URL:https://pfadis.wrneudorf.at/event/wiwoe-xl-heimstunde-2026/
LOCATION:Pfadiheim Wiener Neudorf\, Hauptstraße 64\, Wiener Neudorf\, Niederösterreich\, 2351\, Austria
CATEGORIES:XL-Heimstunde
ORGANIZER;CN="WiW%C3%B6-Team":MAILTO:wiwoe@wrneudorf.at
END:VEVENT
BEGIN:VEVENT
DTSTART;TZID=Europe/Vienna:20260419T090000
DTEND;TZID=Europe/Vienna:20260419T140000
DTSTAMP:20260422T104115
CREATED:20260214T112847Z
LAST-MODIFIED:20260214T112958Z
UID:12230-1776589200-1776607200@pfadis.wrneudorf.at
SUMMARY:Pfadiflohmarkt mit Grillfest
DESCRIPTION:
URL:https://pfadis.wrneudorf.at/event/flohmarkt/
LOCATION:Niederösterreich
CATEGORIES:Veranstaltung
END:VEVENT
END:VCALENDAR