BEGIN:VCALENDAR
VERSION:2.0
PRODID:-//Pfadis Wiener Neudorf - ECPv6.15.20//NONSGML v1.0//EN
CALSCALE:GREGORIAN
METHOD:PUBLISH
X-ORIGINAL-URL:https://pfadis.wrneudorf.at
X-WR-CALDESC:Veranstaltungen für Pfadis Wiener Neudorf
REFRESH-INTERVAL;VALUE=DURATION:PT1H
X-Robots-Tag:noindex
X-PUBLISHED-TTL:PT1H
BEGIN:VTIMEZONE
TZID:Europe/Vienna
BEGIN:DAYLIGHT
TZOFFSETFROM:+0100
TZOFFSETTO:+0200
TZNAME:CEST
DTSTART:20230326T010000
END:DAYLIGHT
BEGIN:STANDARD
TZOFFSETFROM:+0200
TZOFFSETTO:+0100
TZNAME:CET
DTSTART:20231029T010000
END:STANDARD
BEGIN:DAYLIGHT
TZOFFSETFROM:+0100
TZOFFSETTO:+0200
TZNAME:CEST
DTSTART:20240331T010000
END:DAYLIGHT
BEGIN:STANDARD
TZOFFSETFROM:+0200
TZOFFSETTO:+0100
TZNAME:CET
DTSTART:20241027T010000
END:STANDARD
BEGIN:DAYLIGHT
TZOFFSETFROM:+0100
TZOFFSETTO:+0200
TZNAME:CEST
DTSTART:20250330T010000
END:DAYLIGHT
BEGIN:STANDARD
TZOFFSETFROM:+0200
TZOFFSETTO:+0100
TZNAME:CET
DTSTART:20251026T010000
END:STANDARD
END:VTIMEZONE
BEGIN:VEVENT
DTSTART;TZID=Europe/Vienna:20240504T090000
DTEND;TZID=Europe/Vienna:20240504T120000
DTSTAMP:20260421T152039
CREATED:20240331T153011Z
LAST-MODIFIED:20240424T102340Z
UID:9396-1714813200-1714824000@pfadis.wrneudorf.at
SUMMARY:Pfadifrühstück
DESCRIPTION:
URL:https://pfadis.wrneudorf.at/event/pfadifruehstueck/
LOCATION:Klosterpark\, Schloßmühlplatz 1\, Wiener Neudorf\, Niederösterreich\, 2351\, Austria
CATEGORIES:Veranstaltung
ORGANIZER;CN="Pfadis Wiener Neudorf":MAILTO:pfadis@wrneudorf.at
END:VEVENT
BEGIN:VEVENT
DTSTART;TZID=Europe/Vienna:20240504T123000
DTEND;TZID=Europe/Vienna:20240504T190000
DTSTAMP:20260421T152039
CREATED:20240424T102818Z
LAST-MODIFIED:20240424T102818Z
UID:9734-1714825800-1714849200@pfadis.wrneudorf.at
SUMMARY:Umzug
DESCRIPTION:
URL:https://pfadis.wrneudorf.at/event/umzug/
LOCATION:Pfadiheim Wiener Neudorf\, Hauptstraße 64\, Wiener Neudorf\, Niederösterreich\, 2351\, Austria
CATEGORIES:Veranstaltung
ORGANIZER;CN="Pfadis Wiener Neudorf":MAILTO:pfadis@wrneudorf.at
END:VEVENT
BEGIN:VEVENT
DTSTART;TZID=Europe/Vienna:20240504T140000
DTEND;TZID=Europe/Vienna:20240504T173000
DTSTAMP:20260421T152039
CREATED:20240331T153157Z
LAST-MODIFIED:20240502T174503Z
UID:9398-1714831200-1714843800@pfadis.wrneudorf.at
SUMMARY:Biber Bezirksaktion
DESCRIPTION: 
URL:https://pfadis.wrneudorf.at/event/biber-bezirksaktion/
LOCATION:Niederösterreich
CATEGORIES:Bezirksaktion
ORGANIZER;CN="Biber-Team":MAILTO:biber@wrneudorf.at
END:VEVENT
BEGIN:VEVENT
DTSTART;VALUE=DATE:20240505
DTEND;VALUE=DATE:20240506
DTSTAMP:20260421T152039
CREATED:20240424T102919Z
LAST-MODIFIED:20240424T102919Z
UID:9736-1714867200-1714953599@pfadis.wrneudorf.at
SUMMARY:Umzug
DESCRIPTION:
URL:https://pfadis.wrneudorf.at/event/umzug-2/
LOCATION:Pfadiheim Wiener Neudorf\, Hauptstraße 64\, Wiener Neudorf\, Niederösterreich\, 2351\, Austria
CATEGORIES:Veranstaltung
ORGANIZER;CN="Pfadis Wiener Neudorf":MAILTO:pfadis@wrneudorf.at
END:VEVENT
BEGIN:VEVENT
DTSTART;TZID=Europe/Vienna:20240514T181500
DTEND;TZID=Europe/Vienna:20240514T193000
DTSTAMP:20260421T152039
CREATED:20240331T153327Z
LAST-MODIFIED:20240502T174537Z
UID:9402-1715710500-1715715000@pfadis.wrneudorf.at
SUMMARY:GuSp Elternabend
DESCRIPTION: 
URL:https://pfadis.wrneudorf.at/event/gusp-elternabend/
LOCATION:Pfadiheim Wiener Neudorf\, Hauptstraße 64\, Wiener Neudorf\, Niederösterreich\, 2351\, Austria
CATEGORIES:Elternabend
ORGANIZER;CN="GuSp-Team":MAILTO:gusp@wrneudorf.at
END:VEVENT
BEGIN:VEVENT
DTSTART;TZID=Europe/Vienna:20240518T000000
DTEND;TZID=Europe/Vienna:20240520T000000
DTSTAMP:20260421T152039
CREATED:20240401T122517Z
LAST-MODIFIED:20240424T102313Z
UID:9470-1715990400-1716163200@pfadis.wrneudorf.at
SUMMARY:Pfingstferien
DESCRIPTION:
URL:https://pfadis.wrneudorf.at/event/pfingstferien-2/
LOCATION:Niederösterreich
CATEGORIES:Schulfrei
END:VEVENT
BEGIN:VEVENT
DTSTART;TZID=Europe/Vienna:20240518T000000
DTEND;TZID=Europe/Vienna:20240520T000000
DTSTAMP:20260421T152039
CREATED:20240401T122517Z
LAST-MODIFIED:20240424T102412Z
UID:9471-1715990400-1716163200@pfadis.wrneudorf.at
SUMMARY:CaEx Pfingstlager
DESCRIPTION:
URL:https://pfadis.wrneudorf.at/event/caex-pfingstlager-2/
LOCATION:Niederösterreich
CATEGORIES:Pfingstlager
ORGANIZER;CN="CaEx-Team":MAILTO:caex@wrneudorf.at
END:VEVENT
BEGIN:VEVENT
DTSTART;TZID=Europe/Vienna:20240518T000000
DTEND;TZID=Europe/Vienna:20240520T000000
DTSTAMP:20260421T152039
CREATED:20240401T122517Z
LAST-MODIFIED:20240424T102412Z
UID:9472-1715990400-1716163200@pfadis.wrneudorf.at
SUMMARY:RaRo Pfingstlager
DESCRIPTION:
URL:https://pfadis.wrneudorf.at/event/raro-pfingstlager-2/
LOCATION:Niederösterreich
CATEGORIES:Pfingstlager
ORGANIZER;CN="RaRo-Team":MAILTO:raro@wrneudorf.at
END:VEVENT
BEGIN:VEVENT
DTSTART;TZID=Europe/Vienna:20240518T073000
DTEND;TZID=Europe/Vienna:20240520T130000
DTSTAMP:20260421T152039
CREATED:20240401T122518Z
LAST-MODIFIED:20240424T102412Z
UID:9473-1716017400-1716210000@pfadis.wrneudorf.at
SUMMARY:GuSp Pfingstlager
DESCRIPTION:
URL:https://pfadis.wrneudorf.at/event/gusp-pfingstlager-2/
LOCATION:Laa an der Thaya – Schwimmschule
CATEGORIES:Pfingstlager
ORGANIZER;CN="GuSp-Team":MAILTO:gusp@wrneudorf.at
END:VEVENT
END:VCALENDAR