BEGIN:VCALENDAR
VERSION:2.0
PRODID:-//Pfadis Wiener Neudorf - ECPv6.15.20//NONSGML v1.0//EN
CALSCALE:GREGORIAN
METHOD:PUBLISH
X-WR-CALNAME:Pfadis Wiener Neudorf
X-ORIGINAL-URL:https://pfadis.wrneudorf.at
X-WR-CALDESC:Veranstaltungen für Pfadis Wiener Neudorf
REFRESH-INTERVAL;VALUE=DURATION:PT1H
X-Robots-Tag:noindex
X-PUBLISHED-TTL:PT1H
BEGIN:VTIMEZONE
TZID:Europe/Vienna
BEGIN:DAYLIGHT
TZOFFSETFROM:+0100
TZOFFSETTO:+0200
TZNAME:CEST
DTSTART:20240331T010000
END:DAYLIGHT
BEGIN:STANDARD
TZOFFSETFROM:+0200
TZOFFSETTO:+0100
TZNAME:CET
DTSTART:20241027T010000
END:STANDARD
BEGIN:DAYLIGHT
TZOFFSETFROM:+0100
TZOFFSETTO:+0200
TZNAME:CEST
DTSTART:20250330T010000
END:DAYLIGHT
BEGIN:STANDARD
TZOFFSETFROM:+0200
TZOFFSETTO:+0100
TZNAME:CET
DTSTART:20251026T010000
END:STANDARD
BEGIN:DAYLIGHT
TZOFFSETFROM:+0100
TZOFFSETTO:+0200
TZNAME:CEST
DTSTART:20260329T010000
END:DAYLIGHT
BEGIN:STANDARD
TZOFFSETFROM:+0200
TZOFFSETTO:+0100
TZNAME:CET
DTSTART:20261025T010000
END:STANDARD
END:VTIMEZONE
BEGIN:VEVENT
DTSTART;TZID=Europe/Vienna:20251007T183000
DTEND;TZID=Europe/Vienna:20251007T193000
DTSTAMP:20260422T001949
CREATED:20250918T113700Z
LAST-MODIFIED:20250918T113700Z
UID:11750-1759861800-1759865400@pfadis.wrneudorf.at
SUMMARY:GuSp Elternabend Herbst 2025
DESCRIPTION:
URL:https://pfadis.wrneudorf.at/event/gusp-elternabend-herbst-2025/
LOCATION:Pfadiheim Wiener Neudorf\, Hauptstraße 64\, Wiener Neudorf\, Niederösterreich\, 2351\, Austria
CATEGORIES:Elternabend
ORGANIZER;CN="GuSp-Team":MAILTO:gusp@wrneudorf.at
END:VEVENT
END:VCALENDAR